BEGIN:VCALENDAR
VERSION:2.0
PRODID:-//hacksw/handcal//NONSGML v1.0//EN
CALSCALE:GREGORIAN
BEGIN:VEVENT
DTSTART:20120619T073000Z
DTEND:20120619T080000Z
UID:e11968
DTSTAMP:20260422T033914Z
LOCATION:Wolfson Building for Biological Research
DESCRIPTION:"Studying endoderm development by a proteomics method of fractionating heterogeneous populations"
SUMMARY:"Studying endoderm development by a proteomics method of fractionating heterogeneous populations"
END:VEVENT
END:VCALENDAR