BEGIN:VCALENDAR
VERSION:2.0
PRODID:-//hacksw/handcal//NONSGML v1.0//EN
CALSCALE:GREGORIAN
BEGIN:VEVENT
DTSTART:20120508T070000Z
DTEND:20120508T070000Z
UID:e12065
DTSTAMP:20260421T114507Z
LOCATION:Arthur and Rochelle Belfer Building for Biomedical Research
DESCRIPTION:From tooth to guts: development and regeneration at both ends of the GI tract
SUMMARY:From tooth to guts: development and regeneration at both ends of the GI tract
END:VEVENT
END:VCALENDAR