BEGIN:VCALENDAR
VERSION:2.0
PRODID:-//hacksw/handcal//NONSGML v1.0//EN
CALSCALE:GREGORIAN
BEGIN:VEVENT
DTSTART:20120402T080000Z
DTEND:20120402T090000Z
UID:e12067
DTSTAMP:20260422T032015Z
LOCATION:Gerhard M.J. Schmidt Lecture Hall
DESCRIPTION:Faculty of Chemistry Colloquium - Prof. Iwao Ohmine
SUMMARY:Faculty of Chemistry Colloquium - Prof. Iwao Ohmine
END:VEVENT
END:VCALENDAR