BEGIN:VCALENDAR
VERSION:2.0
PRODID:-//hacksw/handcal//NONSGML v1.0//EN
CALSCALE:GREGORIAN
BEGIN:VEVENT
DTSTART:20120502T081500Z
DTEND:20120502T081500Z
UID:e12068
DTSTAMP:20260424T055748Z
LOCATION:Dannie N. Heineman Laboratory
DESCRIPTION:TBD
SUMMARY:TBD
END:VEVENT
END:VCALENDAR