BEGIN:VCALENDAR
VERSION:2.0
PRODID:-//hacksw/handcal//NONSGML v1.0//EN
CALSCALE:GREGORIAN
BEGIN:VEVENT
DTSTART:20120531T113000Z
DTEND:20120531T113000Z
UID:e12205
DTSTAMP:20260425T225310Z
LOCATION:Ullmann Building of Life Sciences
DESCRIPTION:Biomineralizaiton: From understanding nature's strategies to the formaiton of mineralized tissues to biomimetic mineralizaiton
SUMMARY:Biomineralizaiton: From understanding nature's strategies to the formaiton of mineralized tissues to biomimetic mineralizaiton
END:VEVENT
END:VCALENDAR