BEGIN:VCALENDAR
VERSION:2.0
PRODID:-//hacksw/handcal//NONSGML v1.0//EN
CALSCALE:GREGORIAN
BEGIN:VEVENT
DTSTART:20120515T080000Z
DTEND:20120515T090000Z
UID:e12210
DTSTAMP:20260425T075214Z
LOCATION:Gerhard M.J. Schmidt Lecture Hall
DESCRIPTION:Special Faculty of Chemistry Colloquium - Prof. A. Paul Alivisatos
SUMMARY:Special Faculty of Chemistry Colloquium - Prof. A. Paul Alivisatos
END:VEVENT
END:VCALENDAR