BEGIN:VCALENDAR
VERSION:2.0
PRODID:-//hacksw/handcal//NONSGML v1.0//EN
CALSCALE:GREGORIAN
BEGIN:VEVENT
DTSTART:20130612T090000Z
DTEND:20130612T090000Z
UID:e12386
DTSTAMP:20260420T003336Z
LOCATION:Dolfi and Lola Ebner Auditorium
DESCRIPTION:POPULAR LECTURES -IN HEBREW 
SUMMARY:POPULAR LECTURES -IN HEBREW 
END:VEVENT
END:VCALENDAR