BEGIN:VCALENDAR
VERSION:2.0
PRODID:-//hacksw/handcal//NONSGML v1.0//EN
CALSCALE:GREGORIAN
BEGIN:VEVENT
DTSTART:20130109T050000Z
DTEND:20130109T150000Z
UID:e12387
DTSTAMP:20260423T094144Z
LOCATION:The David Lopatie Conference Centre
DESCRIPTION:LS- Senior Scientist day
SUMMARY:LS- Senior Scientist day
END:VEVENT
END:VCALENDAR