BEGIN:VCALENDAR
VERSION:2.0
PRODID:-//hacksw/handcal//NONSGML v1.0//EN
CALSCALE:GREGORIAN
BEGIN:VEVENT
DTSTART:20121224T080000Z
DTEND:20121224T080000Z
UID:e12406
DTSTAMP:20260424T055738Z
LOCATION:Max and Lillian Candiotty Building
DESCRIPTION:Integrative and functional genomics of EMT &#8211\; can we target metastatic cancer through natural processes it usurps".
SUMMARY:Integrative and functional genomics of EMT &#8211\; can we target metastatic cancer through natural processes it usurps".
END:VEVENT
END:VCALENDAR