BEGIN:VCALENDAR
VERSION:2.0
PRODID:-//hacksw/handcal//NONSGML v1.0//EN
CALSCALE:GREGORIAN
BEGIN:VEVENT
DTSTART:20130228T120000Z
DTEND:20130228T130000Z
UID:e12454
DTSTAMP:20260423T084746Z
LOCATION:Dolfi and Lola Ebner Auditorium
DESCRIPTION:Life Science Lecture 
SUMMARY:Life Science Lecture 
END:VEVENT
END:VCALENDAR