BEGIN:VCALENDAR
VERSION:2.0
PRODID:-//hacksw/handcal//NONSGML v1.0//EN
CALSCALE:GREGORIAN
BEGIN:VEVENT
DTSTART:20130409T070000Z
DTEND:20130409T073000Z
UID:e12469
DTSTAMP:20260421T051357Z
LOCATION:Wolfson Building for Biological Research
DESCRIPTION:Axon pruning is actively regulated by microtubules destabilizing  protein\, Kinesin Superfamily Protein 2A (KIF2A)
SUMMARY:Axon pruning is actively regulated by microtubules destabilizing  protein\, Kinesin Superfamily Protein 2A (KIF2A)
END:VEVENT
END:VCALENDAR