BEGIN:VCALENDAR
VERSION:2.0
PRODID:-//hacksw/handcal//NONSGML v1.0//EN
CALSCALE:GREGORIAN
BEGIN:VEVENT
DTSTART:20130429T110000Z
DTEND:20130429T110000Z
UID:e12473
DTSTAMP:20260420T194239Z
LOCATION:Max and Lillian Candiotty Building
DESCRIPTION:Tolerance of DNA Damage going 3-D: effect of nuclear architecture
SUMMARY:Tolerance of DNA Damage going 3-D: effect of nuclear architecture
END:VEVENT
END:VCALENDAR