BEGIN:VCALENDAR
VERSION:2.0
PRODID:-//hacksw/handcal//NONSGML v1.0//EN
CALSCALE:GREGORIAN
BEGIN:VEVENT
DTSTART:20120911T080000Z
DTEND:20120911T080000Z
UID:e12489
DTSTAMP:20260424T050110Z
LOCATION:Sussman Family Building for Environmental Sciences
DESCRIPTION:The link between tropical convection and the Northern Hemisphere Arctic surface air temperature change on intraseaonal and interdecadal time scales.
SUMMARY:The link between tropical convection and the Northern Hemisphere Arctic surface air temperature change on intraseaonal and interdecadal time scales.
END:VEVENT
END:VCALENDAR