BEGIN:VCALENDAR
VERSION:2.0
PRODID:-//hacksw/handcal//NONSGML v1.0//EN
CALSCALE:GREGORIAN
BEGIN:VEVENT
DTSTART:20130108T103000Z
DTEND:20130108T103000Z
UID:e12492
DTSTAMP:20260423T053253Z
LOCATION:Wolfson Building for Biological Research
DESCRIPTION:CANCELLED: Pouchitis: a key to understanding Crohn's disease
SUMMARY:CANCELLED: Pouchitis: a key to understanding Crohn's disease
END:VEVENT
END:VCALENDAR