BEGIN:VCALENDAR
VERSION:2.0
PRODID:-//hacksw/handcal//NONSGML v1.0//EN
CALSCALE:GREGORIAN
BEGIN:VEVENT
DTSTART:20130521T103000Z
DTEND:20130521T103000Z
UID:e12493
DTSTAMP:20260420T050116Z
LOCATION:Wolfson Building for Biological Research
DESCRIPTION:Transcriptome methylation &#8211\; RNA epigenetics is here
SUMMARY:Transcriptome methylation &#8211\; RNA epigenetics is here
END:VEVENT
END:VCALENDAR