BEGIN:VCALENDAR
VERSION:2.0
PRODID:-//hacksw/handcal//NONSGML v1.0//EN
CALSCALE:GREGORIAN
BEGIN:VEVENT
DTSTART:20130305T103000Z
DTEND:20130305T103000Z
UID:e12495
DTSTAMP:20260423T155455Z
LOCATION:Wolfson Building for Biological Research
DESCRIPTION:NF-kappaB in liver cancer &#8211\; the plot thickens
SUMMARY:NF-kappaB in liver cancer &#8211\; the plot thickens
END:VEVENT
END:VCALENDAR