BEGIN:VCALENDAR
VERSION:2.0
PRODID:-//hacksw/handcal//NONSGML v1.0//EN
CALSCALE:GREGORIAN
BEGIN:VEVENT
DTSTART:20130115T103000Z
DTEND:20130115T103000Z
UID:e12500
DTSTAMP:20260423T065752Z
LOCATION:Wolfson Building for Biological Research
DESCRIPTION:Live-cell imaging reveals p12 as the chromatin tether for the murine leukemia virus pre-integration complex
SUMMARY:Live-cell imaging reveals p12 as the chromatin tether for the murine leukemia virus pre-integration complex
END:VEVENT
END:VCALENDAR