BEGIN:VCALENDAR
VERSION:2.0
PRODID:-//hacksw/handcal//NONSGML v1.0//EN
CALSCALE:GREGORIAN
BEGIN:VEVENT
DTSTART:19691231T160000Z
DTEND:19691231T160000Z
UID:e12530
DTSTAMP:20260420T085550Z
LOCATION:The David Lopatie Conference Centre
DESCRIPTION:Signal Transduction in Health and Disease
SUMMARY:Signal Transduction in Health and Disease
END:VEVENT
END:VCALENDAR