BEGIN:VCALENDAR
VERSION:2.0
PRODID:-//hacksw/handcal//NONSGML v1.0//EN
CALSCALE:GREGORIAN
BEGIN:VEVENT
DTSTART:20130528T120000Z
DTEND:20130528T120000Z
UID:e12570
DTSTAMP:20260420T091546Z
LOCATION:Dolfi and Lola Ebner Auditorium
DESCRIPTION:Life Sciences Colloquium
SUMMARY:Life Sciences Colloquium
END:VEVENT
END:VCALENDAR