BEGIN:VCALENDAR
VERSION:2.0
PRODID:-//hacksw/handcal//NONSGML v1.0//EN
CALSCALE:GREGORIAN
BEGIN:VEVENT
DTSTART:20130108T070000Z
DTEND:20130108T073000Z
UID:e12585
DTSTAMP:20260423T065755Z
LOCATION:Wolfson Building for Biological Research
DESCRIPTION:Mapping the spatial distribution and activation cues of the COP9 signalosome
SUMMARY:Mapping the spatial distribution and activation cues of the COP9 signalosome
END:VEVENT
END:VCALENDAR