BEGIN:VCALENDAR
VERSION:2.0
PRODID:-//hacksw/handcal//NONSGML v1.0//EN
CALSCALE:GREGORIAN
BEGIN:VEVENT
DTSTART:20130129T070000Z
DTEND:20130129T070000Z
UID:e12588
DTSTAMP:20260423T194527Z
LOCATION:Wolfson Building for Biological Research
DESCRIPTION:"What goes wrong with aging? Mechanisms that couple neurodegenerative disorders and the aging process".
SUMMARY:"What goes wrong with aging? Mechanisms that couple neurodegenerative disorders and the aging process".
END:VEVENT
END:VCALENDAR