BEGIN:VCALENDAR
VERSION:2.0
PRODID:-//hacksw/handcal//NONSGML v1.0//EN
CALSCALE:GREGORIAN
BEGIN:VEVENT
DTSTART:20130303T060000Z
DTEND:20130304T090000Z
UID:e12590
DTSTAMP:20260422T182619Z
LOCATION:The David Lopatie Conference Centre
DESCRIPTION:Statistical Phyiscs of Amorphus Solids
SUMMARY:Statistical Phyiscs of Amorphus Solids
END:VEVENT
END:VCALENDAR