BEGIN:VCALENDAR
VERSION:2.0
PRODID:-//hacksw/handcal//NONSGML v1.0//EN
CALSCALE:GREGORIAN
BEGIN:VEVENT
DTSTART:20130226T103000Z
DTEND:20130226T103000Z
UID:e12638
DTSTAMP:20260425T072020Z
LOCATION:Wolfson Building for Biological Research
DESCRIPTION:Development of genetic cancer vaccines encoding dendritic cell activation receptors
SUMMARY:Development of genetic cancer vaccines encoding dendritic cell activation receptors
END:VEVENT
END:VCALENDAR