BEGIN:VCALENDAR
VERSION:2.0
PRODID:-//hacksw/handcal//NONSGML v1.0//EN
CALSCALE:GREGORIAN
BEGIN:VEVENT
DTSTART:20130312T103000Z
DTEND:20130312T103000Z
UID:e12639
DTSTAMP:20260425T070940Z
LOCATION:Wolfson Building for Biological Research
DESCRIPTION:Guidance all along the way : miR-142
SUMMARY:Guidance all along the way : miR-142
END:VEVENT
END:VCALENDAR