BEGIN:VCALENDAR
VERSION:2.0
PRODID:-//hacksw/handcal//NONSGML v1.0//EN
CALSCALE:GREGORIAN
BEGIN:VEVENT
DTSTART:20130507T103000Z
DTEND:20130507T103000Z
UID:e12641
DTSTAMP:20260419T224754Z
LOCATION:Wolfson Building for Biological Research
DESCRIPTION:TBD
SUMMARY:TBD
END:VEVENT
END:VCALENDAR