BEGIN:VCALENDAR
VERSION:2.0
PRODID:-//hacksw/handcal//NONSGML v1.0//EN
CALSCALE:GREGORIAN
BEGIN:VEVENT
DTSTART:20130528T101500Z
DTEND:20130528T101500Z
UID:e12642
DTSTAMP:20260420T085616Z
LOCATION:Wolfson Building for Biological Research
DESCRIPTION:Intestinal Macrophages in Gut Homeostasis and Inflammation
SUMMARY:Intestinal Macrophages in Gut Homeostasis and Inflammation
END:VEVENT
END:VCALENDAR