BEGIN:VCALENDAR
VERSION:2.0
PRODID:-//hacksw/handcal//NONSGML v1.0//EN
CALSCALE:GREGORIAN
BEGIN:VEVENT
DTSTART:20130611T103000Z
DTEND:20130611T103000Z
UID:e12643
DTSTAMP:20260420T120002Z
LOCATION:Wolfson Building for Biological Research
DESCRIPTION:Detailed analysis of adoptively transferred naive CD8 + T-cells in B16 tumor bearing mice
SUMMARY:Detailed analysis of adoptively transferred naive CD8 + T-cells in B16 tumor bearing mice
END:VEVENT
END:VCALENDAR