BEGIN:VCALENDAR
VERSION:2.0
PRODID:-//hacksw/handcal//NONSGML v1.0//EN
CALSCALE:GREGORIAN
BEGIN:VEVENT
DTSTART:20130618T103000Z
DTEND:20130618T103000Z
UID:e12644
DTSTAMP:20260421T085231Z
LOCATION:Wolfson Building for Biological Research
DESCRIPTION:Regulation of normal and leukemic hematopoietic stem/progenitor cells by the bone marrow microenvironment
SUMMARY:Regulation of normal and leukemic hematopoietic stem/progenitor cells by the bone marrow microenvironment
END:VEVENT
END:VCALENDAR