BEGIN:VCALENDAR
VERSION:2.0
PRODID:-//hacksw/handcal//NONSGML v1.0//EN
CALSCALE:GREGORIAN
BEGIN:VEVENT
DTSTART:19691231T160000Z
DTEND:19691231T160000Z
UID:e12653
DTSTAMP:20260423T072947Z
LOCATION:Jacob Ziskind Building
DESCRIPTION:Spring School and International Workshop : Orbits\, Primitive Ideals and Quantum Groups
SUMMARY:Spring School and International Workshop : Orbits\, Primitive Ideals and Quantum Groups
END:VEVENT
END:VCALENDAR