BEGIN:VCALENDAR
VERSION:2.0
PRODID:-//hacksw/handcal//NONSGML v1.0//EN
CALSCALE:GREGORIAN
BEGIN:VEVENT
DTSTART:20130115T091500Z
DTEND:20130115T100000Z
UID:e12668
DTSTAMP:20260423T053947Z
LOCATION:Wolfson Building for Biological Research
DESCRIPTION:Noise genetics: revealing protein function by correlating phenotype with protein levels and localization in individual cells
SUMMARY:Noise genetics: revealing protein function by correlating phenotype with protein levels and localization in individual cells
END:VEVENT
END:VCALENDAR