BEGIN:VCALENDAR
VERSION:2.0
PRODID:-//hacksw/handcal//NONSGML v1.0//EN
CALSCALE:GREGORIAN
BEGIN:VEVENT
DTSTART:20130507T090000Z
DTEND:20130507T090000Z
UID:e12673
DTSTAMP:20260419T224748Z
LOCATION:Wolfson Building for Biological Research
DESCRIPTION:Adhesion molecules maintain the molecular organization of the axonal membrane
SUMMARY:Adhesion molecules maintain the molecular organization of the axonal membrane
END:VEVENT
END:VCALENDAR