BEGIN:VCALENDAR
VERSION:2.0
PRODID:-//hacksw/handcal//NONSGML v1.0//EN
CALSCALE:GREGORIAN
BEGIN:VEVENT
DTSTART:20130611T090000Z
DTEND:20130611T090000Z
UID:e12676
DTSTAMP:20260420T045929Z
LOCATION:Wolfson Building for Biological Research
DESCRIPTION:The role of astrocytes during developmental neuronal remodeling
SUMMARY:The role of astrocytes during developmental neuronal remodeling
END:VEVENT
END:VCALENDAR