BEGIN:VCALENDAR
VERSION:2.0
PRODID:-//hacksw/handcal//NONSGML v1.0//EN
CALSCALE:GREGORIAN
BEGIN:VEVENT
DTSTART:20130205T070000Z
DTEND:20130205T070000Z
UID:e12695
DTSTAMP:20260422T091138Z
LOCATION:Wolfson Building for Biological Research
DESCRIPTION:peptide-mediated interactions: modeling their structural basis and studying their biological context.
SUMMARY:peptide-mediated interactions: modeling their structural basis and studying their biological context.
END:VEVENT
END:VCALENDAR