BEGIN:VCALENDAR
VERSION:2.0
PRODID:-//hacksw/handcal//NONSGML v1.0//EN
CALSCALE:GREGORIAN
BEGIN:VEVENT
DTSTART:19691231T160000Z
DTEND:19691231T160000Z
UID:e12724
DTSTAMP:20260424T050207Z
LOCATION:Arthur and Rochelle Belfer Building for Biomedical Research
DESCRIPTION:Forum on Mathematical Principles in Biology
SUMMARY:Forum on Mathematical Principles in Biology
END:VEVENT
END:VCALENDAR