BEGIN:VCALENDAR
VERSION:2.0
PRODID:-//hacksw/handcal//NONSGML v1.0//EN
CALSCALE:GREGORIAN
BEGIN:VEVENT
DTSTART:20130107T161500Z
DTEND:20130107T180000Z
UID:e12747
DTSTAMP:20260423T053946Z
LOCATION:Davidson Institute of Science Education
DESCRIPTION:מפגשים בחזית המדע
SUMMARY:מפגשים בחזית המדע
END:VEVENT
END:VCALENDAR