BEGIN:VCALENDAR
VERSION:2.0
PRODID:-//hacksw/handcal//NONSGML v1.0//EN
CALSCALE:GREGORIAN
BEGIN:VEVENT
DTSTART:20130114T080000Z
DTEND:20130114T090000Z
UID:e12749
DTSTAMP:20260423T185235Z
LOCATION:Michael Sela Auditorium
DESCRIPTION:הרצאה ע"ש פרופ' עמוס דה-שליט
SUMMARY:הרצאה ע"ש פרופ' עמוס דה-שליט
END:VEVENT
END:VCALENDAR