BEGIN:VCALENDAR
VERSION:2.0
PRODID:-//hacksw/handcal//NONSGML v1.0//EN
CALSCALE:GREGORIAN
BEGIN:VEVENT
DTSTART:20130507T070000Z
DTEND:20130507T070000Z
UID:e12782
DTSTAMP:20260420T194320Z
LOCATION:Wolfson Building for Biological Research
DESCRIPTION:Environmental stress response and epigenetic regulation in the unicellular parasite Entamoeba histolytica
SUMMARY:Environmental stress response and epigenetic regulation in the unicellular parasite Entamoeba histolytica
END:VEVENT
END:VCALENDAR