BEGIN:VCALENDAR
VERSION:2.0
PRODID:-//hacksw/handcal//NONSGML v1.0//EN
CALSCALE:GREGORIAN
BEGIN:VEVENT
DTSTART:20130212T103000Z
DTEND:20130212T103000Z
UID:e12791
DTSTAMP:20260423T032006Z
LOCATION:Wolfson Building for Biological Research
DESCRIPTION:The road to become CD4 helper T cells
SUMMARY:The road to become CD4 helper T cells
END:VEVENT
END:VCALENDAR