BEGIN:VCALENDAR
VERSION:2.0
PRODID:-//hacksw/handcal//NONSGML v1.0//EN
CALSCALE:GREGORIAN
BEGIN:VEVENT
DTSTART:20130104T073000Z
DTEND:20130104T073000Z
UID:e12811
DTSTAMP:20260423T065745Z
LOCATION:Dolfi and Lola Ebner Auditorium
DESCRIPTION:An exciting performance of  Bob Dylan and  Leonard Cohen.
SUMMARY:An exciting performance of  Bob Dylan and  Leonard Cohen.
END:VEVENT
END:VCALENDAR