BEGIN:VCALENDAR
VERSION:2.0
PRODID:-//hacksw/handcal//NONSGML v1.0//EN
CALSCALE:GREGORIAN
BEGIN:VEVENT
DTSTART:20130121T173000Z
DTEND:20130121T173000Z
UID:e12812
DTSTAMP:20260423T054002Z
LOCATION:Michael Sela Auditorium
DESCRIPTION:Don Pasquale
SUMMARY:Don Pasquale
END:VEVENT
END:VCALENDAR