BEGIN:VCALENDAR
VERSION:2.0
PRODID:-//hacksw/handcal//NONSGML v1.0//EN
CALSCALE:GREGORIAN
BEGIN:VEVENT
DTSTART:20130127T173000Z
DTEND:20130127T173000Z
UID:e12814
DTSTAMP:20260425T122850Z
LOCATION:Michael Sela Auditorium
DESCRIPTION:Evita
SUMMARY:Evita
END:VEVENT
END:VCALENDAR