BEGIN:VCALENDAR
VERSION:2.0
PRODID:-//hacksw/handcal//NONSGML v1.0//EN
CALSCALE:GREGORIAN
BEGIN:VEVENT
DTSTART:20130116T143000Z
DTEND:20130116T143000Z
UID:e12824
DTSTAMP:20260423T054001Z
LOCATION:Michael Sela Auditorium
DESCRIPTION:&#8220\;Aladin&#8221\; 
SUMMARY:&#8220\;Aladin&#8221\; 
END:VEVENT
END:VCALENDAR