BEGIN:VCALENDAR
VERSION:2.0
PRODID:-//hacksw/handcal//NONSGML v1.0//EN
CALSCALE:GREGORIAN
BEGIN:VEVENT
DTSTART:19691231T160000Z
DTEND:19691231T160000Z
UID:e12832
DTSTAMP:20260420T105649Z
LOCATION:Dolfi and Lola Ebner Auditorium
DESCRIPTION:Chaim Leib Pekeris Memorial Lecture
SUMMARY:Chaim Leib Pekeris Memorial Lecture
END:VEVENT
END:VCALENDAR