BEGIN:VCALENDAR
VERSION:2.0
PRODID:-//hacksw/handcal//NONSGML v1.0//EN
CALSCALE:GREGORIAN
BEGIN:VEVENT
DTSTART:20130523T130000Z
DTEND:20130523T190000Z
UID:e12837
DTSTAMP:20260420T062949Z
LOCATION:
DESCRIPTION:Graduation Ceremony 2013
SUMMARY:Graduation Ceremony 2013
END:VEVENT
END:VCALENDAR