BEGIN:VCALENDAR
VERSION:2.0
PRODID:-//hacksw/handcal//NONSGML v1.0//EN
CALSCALE:GREGORIAN
BEGIN:VEVENT
DTSTART:20130106T110000Z
DTEND:20130106T110000Z
UID:e12844
DTSTAMP:20260423T054013Z
LOCATION:Max and Lillian Candiotty Building
DESCRIPTION:Glioma cell of origin: Reprogramming and Cancer Stem cells
SUMMARY:Glioma cell of origin: Reprogramming and Cancer Stem cells
END:VEVENT
END:VCALENDAR