BEGIN:VCALENDAR
VERSION:2.0
PRODID:-//hacksw/handcal//NONSGML v1.0//EN
CALSCALE:GREGORIAN
BEGIN:VEVENT
DTSTART:20130115T173000Z
DTEND:20130115T173000Z
UID:e12855
DTSTAMP:20260423T185234Z
LOCATION:Michael Sela Auditorium
DESCRIPTION:David Broza in Concert
SUMMARY:David Broza in Concert
END:VEVENT
END:VCALENDAR