BEGIN:VCALENDAR
VERSION:2.0
PRODID:-//hacksw/handcal//NONSGML v1.0//EN
CALSCALE:GREGORIAN
BEGIN:VEVENT
DTSTART:20130110T080000Z
DTEND:20130110T080000Z
UID:e12864
DTSTAMP:20260423T065749Z
LOCATION:Dolfi and Lola Ebner Auditorium
DESCRIPTION:Prof. Mina Bissell-31st Aharon Katzir-Katchalsky Annual Lecture
SUMMARY:Prof. Mina Bissell-31st Aharon Katzir-Katchalsky Annual Lecture
END:VEVENT
END:VCALENDAR