BEGIN:VCALENDAR
VERSION:2.0
PRODID:-//hacksw/handcal//NONSGML v1.0//EN
CALSCALE:GREGORIAN
BEGIN:VEVENT
DTSTART:20130113T080000Z
DTEND:20130113T090000Z
UID:e12868
DTSTAMP:20260423T065746Z
LOCATION:Nella and Leon Benoziyo Physics Building
DESCRIPTION:The XENON Dark Matter search project: New results and behind the scenes.
SUMMARY:The XENON Dark Matter search project: New results and behind the scenes.
END:VEVENT
END:VCALENDAR