BEGIN:VCALENDAR
VERSION:2.0
PRODID:-//hacksw/handcal//NONSGML v1.0//EN
CALSCALE:GREGORIAN
BEGIN:VEVENT
DTSTART:20130213T070000Z
DTEND:20130213T070000Z
UID:e12880
DTSTAMP:20260422T182657Z
LOCATION:Arthur and Rochelle Belfer Building for Biomedical Research
DESCRIPTION:Cellular Destruction Mechanisms that Create New Lives
SUMMARY:Cellular Destruction Mechanisms that Create New Lives
END:VEVENT
END:VCALENDAR