BEGIN:VCALENDAR
VERSION:2.0
PRODID:-//hacksw/handcal//NONSGML v1.0//EN
CALSCALE:GREGORIAN
BEGIN:VEVENT
DTSTART:20130103T103000Z
DTEND:20130103T103000Z
UID:e12889
DTSTAMP:20260422T204835Z
LOCATION:Jacob Ziskind Building
DESCRIPTION:Representation count\, rational singularities of deformation varieties\, and pushforward of smooth measures
SUMMARY:Representation count\, rational singularities of deformation varieties\, and pushforward of smooth measures
END:VEVENT
END:VCALENDAR